BEGIN:VCALENDAR
VERSION:2.0
PRODID:-//South Perrott Parish Council//Meeting Calendar//EN
CALSCALE:GREGORIAN
METHOD:PUBLISH
BEGIN:VEVENT
UID:70503-20220526@southperrottparishcouncil.gov.uk
DTSTAMP:20260421T082221Z
DTSTART;VALUE=DATE:20220526
DTEND;VALUE=DATE:20220527
SUMMARY:Annual Parish Meeting &#8211\\; 26 May 2022
DESCRIPTION:Annual Parish Meeting\nView details: https://southperrottparishcouncil.gov.uk/meetings/annual-parish-meeting-26-may-2022/
URL:https://southperrottparishcouncil.gov.uk/meetings/annual-parish-meeting-26-may-2022/
END:VEVENT
END:VCALENDAR
