BEGIN:VCALENDAR
VERSION:2.0
PRODID:-//South Perrott Parish Council//Meeting Calendar//EN
CALSCALE:GREGORIAN
METHOD:PUBLISH
BEGIN:VEVENT
UID:70603-20260505@southperrottparishcouncil.gov.uk
DTSTAMP:20260421T082530Z
DTSTART;VALUE=DATE:20260505
DTEND;VALUE=DATE:20260506
SUMMARY:Annual Parish Meeting – 5 May 2026
DESCRIPTION:Annual Parish Meeting\nView details: https://southperrottparishcouncil.gov.uk/meetings/annual-parish-meeting-5-may-2026/
URL:https://southperrottparishcouncil.gov.uk/meetings/annual-parish-meeting-5-may-2026/
END:VEVENT
END:VCALENDAR
